BEGIN:VCALENDAR
VERSION:2.0
PRODID:-//Tourism Industry Association of Ontario//Silkstart Technology 
 Inc.//
BEGIN:VTIMEZONE
TZID:America/Toronto
BEGIN:DAYLIGHT
DTSTART;VALUE=DATE-TIME:20260308T020000
TZNAME:EDT
TZOFFSETFROM:-0500
TZOFFSETTO:-0400
END:DAYLIGHT
BEGIN:STANDARD
DTSTART;VALUE=DATE-TIME:20261101T020000
TZNAME:EST
TZOFFSETFROM:-0400
TZOFFSETTO:-0500
END:STANDARD
END:VTIMEZONE
BEGIN:VEVENT
SUMMARY:Hamilton’s 16th Annual Food and DrinkFest
DTSTART;TZID=America/Toronto;VALUE=DATE-TIME:20240216T160000
DTEND;TZID=America/Toronto;VALUE=DATE-TIME:20240217T220000
DTSTAMP;VALUE=DATE-TIME:20240123T204019
UID:65b024331995c705ab8bedde
DESCRIPTION:Hamilton\, ON: The Hamilton Food and Drink Festival is back on 
 February 16th and 17th\, 2024 and will be hosted at The Hamilton 
 Convention Centre! With so much to offer\, guests are in for a treat 
 &mdash\; literally! While you eat and drink\, there will be live musical 
 acts\, games\, live event coverage as well as cooking demonstrations and 
 more. You will be treated to a variety of Ontario and international 
 wines\, spirits\, craft beers and local gourmet food. Tickets are now on 
 sale. You can enjoy $3 off your ticket price by using promo code FDF3 at 
 checkout! Tickets for Hamilton&rsquo\;s Food and Drink Fest can now be 
 purchased online at https://foodanddrinkfest.com/tickets-packages/. For 
 more information about the Hamilton Food and Drink Festival visit\, 
 https://foodanddrinkfest.com/ Food and Drink Fest has been a staple in the
  Hamilton area for many years and\, like everything Hamilton\, we are up 
 and ready to get back to work and make this a great annual pilgrimage. 
 Food &amp\; Drink Fest provides a unique opportunity to sample\, sip and 
 savour a vast variety of local wines\, craft beers and chef-inspired foods
  from the region's top restaurants\, craft breweries and Ontario wineries 
 all in one fun-filled outing! The event takes place on February 16th and 
 17th\, 2024 at the Hamilton Convention Centre. This is a 19+ event. Bring 
 your friends and family! 
LOCATION:1 Summers Ln\, Hamilton\, ON L8P 4Y2\, Canada
PRIORITY:5
URL:https://www.tiaontario.ca:443/events/hamiltons-16th-annual-food-and-
 drinkfest
END:VEVENT
END:VCALENDAR
